BEGIN:VCALENDAR
VERSION:2.0
PRODID:-// - ECPv6.15.20//NONSGML v1.0//EN
CALSCALE:GREGORIAN
METHOD:PUBLISH
X-ORIGINAL-URL:https://weekly-volcano.com
X-WR-CALDESC:Events for 
REFRESH-INTERVAL;VALUE=DURATION:PT1H
X-Robots-Tag:noindex
X-PUBLISHED-TTL:PT1H
BEGIN:VTIMEZONE
TZID:UTC
BEGIN:STANDARD
TZOFFSETFROM:+0000
TZOFFSETTO:+0000
TZNAME:UTC
DTSTART:20240101T000000
END:STANDARD
END:VTIMEZONE
BEGIN:VEVENT
DTSTART;TZID=UTC:20250628T110000
DTEND;TZID=UTC:20250628T110000
DTSTAMP:20260421T085151
CREATED:20250616T023032Z
LAST-MODIFIED:20250616T023032Z
UID:1323-1751108400-1751108400@weekly-volcano.com
SUMMARY:Tacoma Art Museum: One Image\, Four Perspectives: Exploring Mediums & Expressions: Oil Pastels 11:00AM
DESCRIPTION:
URL:https://weekly-volcano.com/event/tacoma-art-museum-one-image-four-perspectives-exploring-mediums-expressions-oil-pastels-1100am-2/
END:VEVENT
BEGIN:VEVENT
DTSTART;TZID=UTC:20250628T190000
DTEND;TZID=UTC:20250628T190000
DTSTAMP:20260421T085151
CREATED:20250616T023033Z
LAST-MODIFIED:20250616T023033Z
UID:1324-1751137200-1751137200@weekly-volcano.com
SUMMARY:Tacoma Armory: Poetry After Dark: Poetic Concert & Open Mic 7:00PM-11:00PM
DESCRIPTION:
URL:https://weekly-volcano.com/event/tacoma-armory-poetry-after-dark-poetic-concert-open-mic-700pm-1100pm-2/
END:VEVENT
END:VCALENDAR