BEGIN:VCALENDAR
VERSION:2.0
PRODID:-// - ECPv6.15.20//NONSGML v1.0//EN
CALSCALE:GREGORIAN
METHOD:PUBLISH
X-ORIGINAL-URL:https://weekly-volcano.com
X-WR-CALDESC:Events for 
REFRESH-INTERVAL;VALUE=DURATION:PT1H
X-Robots-Tag:noindex
X-PUBLISHED-TTL:PT1H
BEGIN:VTIMEZONE
TZID:UTC
BEGIN:STANDARD
TZOFFSETFROM:+0000
TZOFFSETTO:+0000
TZNAME:UTC
DTSTART:20240101T000000
END:STANDARD
END:VTIMEZONE
BEGIN:VEVENT
DTSTART;TZID=UTC:20250821T170000
DTEND;TZID=UTC:20250821T170000
DTSTAMP:20260421T053558
CREATED:20250616T023105Z
LAST-MODIFIED:20250616T023105Z
UID:1339-1755795600-1755795600@weekly-volcano.com
SUMMARY:Tacoma Art Museum: Teen Open Studio- Art Making w Neighborhood Nights FREE 5:00PM-7:00PM
DESCRIPTION:
URL:https://weekly-volcano.com/event/tacoma-art-museum-teen-open-studio-art-making-w-neighborhood-nights-free-500pm-700pm-2/
END:VEVENT
BEGIN:VEVENT
DTSTART;TZID=UTC:20250821T183000
DTEND;TZID=UTC:20250821T183000
DTSTAMP:20260421T053558
CREATED:20250616T023105Z
LAST-MODIFIED:20250616T023105Z
UID:1340-1755801000-1755801000@weekly-volcano.com
SUMMARY:Gig Harbor History Museum: Rummrunning In Puget Sound w/ Brad Holden 6:30PM-8:00PM
DESCRIPTION:
URL:https://weekly-volcano.com/event/gig-harbor-history-museum-rummrunning-in-puget-sound-w-brad-holden-630pm-800pm-2/
END:VEVENT
END:VCALENDAR