BEGIN:VCALENDAR
VERSION:2.0
PRODID:-// - ECPv6.15.20//NONSGML v1.0//EN
CALSCALE:GREGORIAN
METHOD:PUBLISH
X-ORIGINAL-URL:https://weekly-volcano.com
X-WR-CALDESC:Events for 
REFRESH-INTERVAL;VALUE=DURATION:PT1H
X-Robots-Tag:noindex
X-PUBLISHED-TTL:PT1H
BEGIN:VTIMEZONE
TZID:UTC
BEGIN:STANDARD
TZOFFSETFROM:+0000
TZOFFSETTO:+0000
TZNAME:UTC
DTSTART:20240101T000000
END:STANDARD
END:VTIMEZONE
BEGIN:VEVENT
DTSTART;TZID=UTC:20251026T140000
DTEND;TZID=UTC:20251026T140000
DTSTAMP:20260421T040354
CREATED:20250616T023146Z
LAST-MODIFIED:20250616T023146Z
UID:1353-1761487200-1761487200@weekly-volcano.com
SUMMARY:Pioneer Park Pavillion: Northwest Sinfonietta Presents "Fest" 2:00PM
DESCRIPTION:
URL:https://weekly-volcano.com/event/pioneer-park-pavillion-northwest-sinfonietta-presents-fest-200pm-2/
END:VEVENT
END:VCALENDAR