BEGIN:VCALENDAR
VERSION:2.0
PRODID:-// - ECPv6.15.20//NONSGML v1.0//EN
CALSCALE:GREGORIAN
METHOD:PUBLISH
X-ORIGINAL-URL:https://weekly-volcano.com
X-WR-CALDESC:Events for 
REFRESH-INTERVAL;VALUE=DURATION:PT1H
X-Robots-Tag:noindex
X-PUBLISHED-TTL:PT1H
BEGIN:VTIMEZONE
TZID:UTC
BEGIN:STANDARD
TZOFFSETFROM:+0000
TZOFFSETTO:+0000
TZNAME:UTC
DTSTART:20240101T000000
END:STANDARD
END:VTIMEZONE
BEGIN:VEVENT
DTSTART;TZID=UTC:20251220T190000
DTEND;TZID=UTC:20251220T190000
DTSTAMP:20260419T114545
CREATED:20250616T023150Z
LAST-MODIFIED:20250616T023150Z
UID:1357-1766257200-1766257200@weekly-volcano.com
SUMMARY:Tacoma Armory: Poetry After Dark: Poetic Concert & Open Mic 7:00PM-11:00PM
DESCRIPTION:
URL:https://weekly-volcano.com/event/tacoma-armory-poetry-after-dark-poetic-concert-open-mic-700pm-1100pm-5/
END:VEVENT
BEGIN:VEVENT
DTSTART;TZID=UTC:20251220T193000
DTEND;TZID=UTC:20251220T193000
DTSTAMP:20260419T114545
CREATED:20250616T023150Z
LAST-MODIFIED:20250616T023150Z
UID:1358-1766259000-1766259000@weekly-volcano.com
SUMMARY:Courthouse Square Ballroom: Northwest Sinfonietta Presents "Flora And Fauna" 7:30PM
DESCRIPTION:
URL:https://weekly-volcano.com/event/courthouse-square-ballroom-northwest-sinfonietta-presents-flora-and-fauna-730pm-2/
END:VEVENT
BEGIN:VEVENT
DTSTART;TZID=UTC:20251221T140000
DTEND;TZID=UTC:20251221T140000
DTSTAMP:20260419T114545
CREATED:20250616T023150Z
LAST-MODIFIED:20250616T023150Z
UID:1359-1766325600-1766325600@weekly-volcano.com
SUMMARY:Pantages Theater: Tacoma City Ballet Presents: The Nutcracker 2:00PM
DESCRIPTION:
URL:https://weekly-volcano.com/event/pantages-theater-tacoma-city-ballet-presents-the-nutcracker-200pm-2/
END:VEVENT
BEGIN:VEVENT
DTSTART;TZID=UTC:20251221T140000
DTEND;TZID=UTC:20251221T140000
DTSTAMP:20260419T114545
CREATED:20250616T023150Z
LAST-MODIFIED:20250616T023150Z
UID:1360-1766325600-1766325600@weekly-volcano.com
SUMMARY:Pioneer Park Pavillion: Northwest Sinfonietta Presents "Flora And Fauna" 2:00PM
DESCRIPTION:
URL:https://weekly-volcano.com/event/pioneer-park-pavillion-northwest-sinfonietta-presents-flora-and-fauna-200pm-2/
END:VEVENT
BEGIN:VEVENT
DTSTART;TZID=UTC:20251227T190000
DTEND;TZID=UTC:20251227T190000
DTSTAMP:20260419T114545
CREATED:20250616T023205Z
LAST-MODIFIED:20250616T023205Z
UID:1361-1766862000-1766862000@weekly-volcano.com
SUMMARY:Tacoma Armory: Poetry After Dark: Poetic Concert & Open MIc 7:00PM-11:00PM
DESCRIPTION:
URL:https://weekly-volcano.com/event/tacoma-armory-poetry-after-dark-poetic-concert-open-mic-700pm-1100pm-6/
END:VEVENT
BEGIN:VEVENT
DTSTART;TZID=UTC:20260125T140000
DTEND;TZID=UTC:20260125T140000
DTSTAMP:20260419T114545
CREATED:20250616T023205Z
LAST-MODIFIED:20250616T023205Z
UID:1362-1769349600-1769349600@weekly-volcano.com
SUMMARY:Pioneer Park Pavillion: Northwest Sinfonietta Presents "Wayfarer" 2:00PM
DESCRIPTION:
URL:https://weekly-volcano.com/event/pioneer-park-pavillion-northwest-sinfonietta-presents-wayfarer-200pm-2/
END:VEVENT
BEGIN:VEVENT
DTSTART;TZID=UTC:20260314T193000
DTEND;TZID=UTC:20260314T193000
DTSTAMP:20260419T114545
CREATED:20250616T023205Z
LAST-MODIFIED:20250616T023205Z
UID:1363-1773516600-1773516600@weekly-volcano.com
SUMMARY:Rialto Theater: Northwest Sinfonietta Presents "Sky And Stone" 7:30PM
DESCRIPTION:
URL:https://weekly-volcano.com/event/rialto-theater-northwest-sinfonietta-presents-sky-and-stone-730pm-2/
END:VEVENT
BEGIN:VEVENT
DTSTART;TZID=UTC:20260315T140000
DTEND;TZID=UTC:20260315T140000
DTSTAMP:20260419T114545
CREATED:20250616T023205Z
LAST-MODIFIED:20250616T023205Z
UID:1364-1773583200-1773583200@weekly-volcano.com
SUMMARY:Pioneer Park Pavillion: Northwest Sinfonietta Presents "Sky And Stone" 7:30PM
DESCRIPTION:
URL:https://weekly-volcano.com/event/pioneer-park-pavillion-northwest-sinfonietta-presents-sky-and-stone-730pm-2/
END:VEVENT
BEGIN:VEVENT
DTSTART;TZID=UTC:20260516T140000
DTEND;TZID=UTC:20260516T140000
DTSTAMP:20260419T114545
CREATED:20250616T023220Z
LAST-MODIFIED:20250616T023220Z
UID:1366-1778940000-1778940000@weekly-volcano.com
SUMMARY:Pioneer Park Pavillion: Northwest Sinfonietta Presents "Butterfly Fantasy" 2:00PM
DESCRIPTION:
URL:https://weekly-volcano.com/event/pioneer-park-pavillion-northwest-sinfonietta-presents-butterfly-fantasy-200pm-2/
END:VEVENT
BEGIN:VEVENT
DTSTART;TZID=UTC:20260516T193000
DTEND;TZID=UTC:20260516T193000
DTSTAMP:20260419T114545
CREATED:20250616T023205Z
LAST-MODIFIED:20250616T023205Z
UID:1365-1778959800-1778959800@weekly-volcano.com
SUMMARY:Asia Pacific Cultural Center: Northwest Sinfonietta Presents "Butterfly Fantasy" 2:00PM
DESCRIPTION:
URL:https://weekly-volcano.com/event/asia-pacific-cultural-center-northwest-sinfonietta-presents-butterfly-fantasy-200pm-2/
END:VEVENT
END:VCALENDAR