BEGIN:VCALENDAR
VERSION:2.0
PRODID:-// - ECPv6.15.20//NONSGML v1.0//EN
CALSCALE:GREGORIAN
METHOD:PUBLISH
X-ORIGINAL-URL:https://weekly-volcano.com
X-WR-CALDESC:Events for 
REFRESH-INTERVAL;VALUE=DURATION:PT1H
X-Robots-Tag:noindex
X-PUBLISHED-TTL:PT1H
BEGIN:VTIMEZONE
TZID:UTC
BEGIN:STANDARD
TZOFFSETFROM:+0000
TZOFFSETTO:+0000
TZNAME:UTC
DTSTART:20240101T000000
END:STANDARD
END:VTIMEZONE
BEGIN:VEVENT
DTSTART;TZID=UTC:20250809T140000
DTEND;TZID=UTC:20250809T140000
DTSTAMP:20260421T040303
CREATED:20250616T023050Z
LAST-MODIFIED:20250616T023050Z
UID:1334-1754748000-1754748000@weekly-volcano.com
SUMMARY:Tacoma Art Museum: In The Spirit Indigenous Fashion Show- FREE 2:00PM-3:00PM
DESCRIPTION:
URL:https://weekly-volcano.com/event/tacoma-art-museum-in-the-spirit-indigenous-fashion-show-free-200pm-300pm-2/
END:VEVENT
BEGIN:VEVENT
DTSTART;TZID=UTC:20250809T190000
DTEND;TZID=UTC:20250809T190000
DTSTAMP:20260421T040303
CREATED:20250616T023050Z
LAST-MODIFIED:20250616T023050Z
UID:1335-1754766000-1754766000@weekly-volcano.com
SUMMARY:Wright Park: Shakspeare In The Park- Bring A Chair Or Blanket- FREE 7:00PM-9:00PM
DESCRIPTION:
URL:https://weekly-volcano.com/event/wright-park-shakspeare-in-the-park-bring-a-chair-or-blanket-free-700pm-900pm-2/
END:VEVENT
BEGIN:VEVENT
DTSTART;TZID=UTC:20250810T110000
DTEND;TZID=UTC:20250810T110000
DTSTAMP:20260421T040303
CREATED:20250616T023105Z
LAST-MODIFIED:20250616T023105Z
UID:1336-1754823600-1754823600@weekly-volcano.com
SUMMARY:Crafty AF: Crafternoon- All Genders\, All Ages\, All Crafts 11:00AM-3:00PM
DESCRIPTION:
URL:https://weekly-volcano.com/event/crafty-af-crafternoon-all-genders-all-ages-all-crafts-1100am-300pm-4/
END:VEVENT
BEGIN:VEVENT
DTSTART;TZID=UTC:20250810T180000
DTEND;TZID=UTC:20250810T180000
DTSTAMP:20260421T040303
CREATED:20250616T023105Z
LAST-MODIFIED:20250616T023105Z
UID:1337-1754848800-1754848800@weekly-volcano.com
SUMMARY:STAR Center Lawn: Shakspeare In The Park- Bring A Chair Or Blanket- FREE 6:00PM-8:00PM
DESCRIPTION:
URL:https://weekly-volcano.com/event/star-center-lawn-shakspeare-in-the-park-bring-a-chair-or-blanket-free-600pm-800pm-2/
END:VEVENT
BEGIN:VEVENT
DTSTART;TZID=UTC:20250820T123000
DTEND;TZID=UTC:20250820T123000
DTSTAMP:20260421T040303
CREATED:20250616T023105Z
LAST-MODIFIED:20250616T023105Z
UID:1338-1755693000-1755693000@weekly-volcano.com
SUMMARY:Tacoma Public Library South Tacoma Branch: Brushes Of Wisdom- FREE Painting Program For Adults 12:30PM-2:00PM
DESCRIPTION:
URL:https://weekly-volcano.com/event/tacoma-public-library-south-tacoma-branch-brushes-of-wisdom-free-painting-program-for-adults-1230pm-200pm-2/
END:VEVENT
BEGIN:VEVENT
DTSTART;TZID=UTC:20250821T170000
DTEND;TZID=UTC:20250821T170000
DTSTAMP:20260421T040303
CREATED:20250616T023105Z
LAST-MODIFIED:20250616T023105Z
UID:1339-1755795600-1755795600@weekly-volcano.com
SUMMARY:Tacoma Art Museum: Teen Open Studio- Art Making w Neighborhood Nights FREE 5:00PM-7:00PM
DESCRIPTION:
URL:https://weekly-volcano.com/event/tacoma-art-museum-teen-open-studio-art-making-w-neighborhood-nights-free-500pm-700pm-2/
END:VEVENT
BEGIN:VEVENT
DTSTART;TZID=UTC:20250821T183000
DTEND;TZID=UTC:20250821T183000
DTSTAMP:20260421T040303
CREATED:20250616T023105Z
LAST-MODIFIED:20250616T023105Z
UID:1340-1755801000-1755801000@weekly-volcano.com
SUMMARY:Gig Harbor History Museum: Rummrunning In Puget Sound w/ Brad Holden 6:30PM-8:00PM
DESCRIPTION:
URL:https://weekly-volcano.com/event/gig-harbor-history-museum-rummrunning-in-puget-sound-w-brad-holden-630pm-800pm-2/
END:VEVENT
BEGIN:VEVENT
DTSTART;TZID=UTC:20250830T190000
DTEND;TZID=UTC:20250830T190000
DTSTAMP:20260421T040303
CREATED:20250616T023120Z
LAST-MODIFIED:20250616T023120Z
UID:1341-1756580400-1756580400@weekly-volcano.com
SUMMARY:Tacoma Armory: Poetry After Dark: Poetic Concert & Open Mic 7:00PM-11:00PM
DESCRIPTION:
URL:https://weekly-volcano.com/event/tacoma-armory-poetry-after-dark-poetic-concert-open-mic-700pm-1100pm-3/
END:VEVENT
END:VCALENDAR