BEGIN:VCALENDAR
VERSION:2.0
PRODID:-// - ECPv6.15.20//NONSGML v1.0//EN
CALSCALE:GREGORIAN
METHOD:PUBLISH
X-ORIGINAL-URL:https://weekly-volcano.com
X-WR-CALDESC:Events for 
REFRESH-INTERVAL;VALUE=DURATION:PT1H
X-Robots-Tag:noindex
X-PUBLISHED-TTL:PT1H
BEGIN:VTIMEZONE
TZID:UTC
BEGIN:STANDARD
TZOFFSETFROM:+0000
TZOFFSETTO:+0000
TZNAME:UTC
DTSTART:20240101T000000
END:STANDARD
END:VTIMEZONE
BEGIN:VEVENT
DTSTART;TZID=UTC:20250906T110000
DTEND;TZID=UTC:20250906T110000
DTSTAMP:20260421T024110
CREATED:20250616T023120Z
LAST-MODIFIED:20250616T023120Z
UID:1342-1757156400-1757156400@weekly-volcano.com
SUMMARY:WA State History Museum: Family Saturday's: Intertribal Storytelling w/ Itsa Sash 11:00AM-12:00PM
DESCRIPTION:
URL:https://weekly-volcano.com/event/wa-state-history-museum-family-saturdays-intertribal-storytelling-w-itsa-sash-1100am-1200pm-2/
END:VEVENT
BEGIN:VEVENT
DTSTART;TZID=UTC:20250913T180000
DTEND;TZID=UTC:20250913T180000
DTSTAMP:20260421T024110
CREATED:20250616T023120Z
LAST-MODIFIED:20250616T023120Z
UID:1343-1757786400-1757786400@weekly-volcano.com
SUMMARY:Gig Harbor History Museum: History Rocks: The Boom Town 20's 6:00PM-10:00PM
DESCRIPTION:
URL:https://weekly-volcano.com/event/gig-harbor-history-museum-history-rocks-the-boom-town-20s-600pm-1000pm-2/
END:VEVENT
BEGIN:VEVENT
DTSTART;TZID=UTC:20250914T110000
DTEND;TZID=UTC:20250914T110000
DTSTAMP:20260421T024110
CREATED:20250616T023120Z
LAST-MODIFIED:20250616T023120Z
UID:1344-1757847600-1757847600@weekly-volcano.com
SUMMARY:Crafty AF: Crafternoon- All Genders\, All Ages\, All Crafts 11:00AM-3:00PM
DESCRIPTION:
URL:https://weekly-volcano.com/event/crafty-af-crafternoon-all-genders-all-ages-all-crafts-1100am-300pm-5/
END:VEVENT
BEGIN:VEVENT
DTSTART;TZID=UTC:20250915T180000
DTEND;TZID=UTC:20250915T180000
DTSTAMP:20260421T024110
CREATED:20250616T023220Z
LAST-MODIFIED:20250616T023220Z
UID:1367-1757959200-1757959200@weekly-volcano.com
SUMMARY:Tacoma Little Theater: 2025 Sound On Stage Theater Awards 6:00PM
DESCRIPTION:
URL:https://weekly-volcano.com/event/tacoma-little-theater-2025-sound-on-stage-theater-awards-600pm-2/
END:VEVENT
BEGIN:VEVENT
DTSTART;TZID=UTC:20250917T123000
DTEND;TZID=UTC:20250917T123000
DTSTAMP:20260421T024110
CREATED:20250616T023121Z
LAST-MODIFIED:20250616T023121Z
UID:1345-1758112200-1758112200@weekly-volcano.com
SUMMARY:Tacoma Public Library South Tacoma Branch: Brushes Of Wisdom- FREE Painting Program For Adults 12:30PM-2:00PM
DESCRIPTION:
URL:https://weekly-volcano.com/event/tacoma-public-library-south-tacoma-branch-brushes-of-wisdom-free-painting-program-for-adults-1230pm-200pm-3/
END:VEVENT
BEGIN:VEVENT
DTSTART;TZID=UTC:20250918T173000
DTEND;TZID=UTC:20250918T173000
DTSTAMP:20260421T024110
CREATED:20250616T023135Z
LAST-MODIFIED:20250616T023220Z
UID:1346-1758216600-1758216600@weekly-volcano.com
SUMMARY:WA State History Museum: Fighting For The Puyallup Tribe w/ Ramona Bennett- FREE 5:30PM
DESCRIPTION:
URL:https://weekly-volcano.com/event/wa-state-history-museum-fighting-for-the-puyallup-tribe-w-ramona-bennett-free-530pm-2/
END:VEVENT
END:VCALENDAR